BEGIN:VCALENDAR
VERSION:2.0
PRODID:-//Kindfulness -Samtalsterapi-Parterapi i Stockholm - ECPv6.15.20//NONSGML v1.0//EN
CALSCALE:GREGORIAN
METHOD:PUBLISH
X-WR-CALNAME:Kindfulness -Samtalsterapi-Parterapi i Stockholm
X-ORIGINAL-URL:https://kindfulness.se
X-WR-CALDESC:Events for Kindfulness -Samtalsterapi-Parterapi i Stockholm
REFRESH-INTERVAL;VALUE=DURATION:PT1H
X-Robots-Tag:noindex
X-PUBLISHED-TTL:PT1H
BEGIN:VTIMEZONE
TZID:Europe/Stockholm
BEGIN:DAYLIGHT
TZOFFSETFROM:+0100
TZOFFSETTO:+0200
TZNAME:CEST
DTSTART:20250330T010000
END:DAYLIGHT
BEGIN:STANDARD
TZOFFSETFROM:+0200
TZOFFSETTO:+0100
TZNAME:CET
DTSTART:20251026T010000
END:STANDARD
BEGIN:DAYLIGHT
TZOFFSETFROM:+0100
TZOFFSETTO:+0200
TZNAME:CEST
DTSTART:20260329T010000
END:DAYLIGHT
BEGIN:STANDARD
TZOFFSETFROM:+0200
TZOFFSETTO:+0100
TZNAME:CET
DTSTART:20261025T010000
END:STANDARD
BEGIN:DAYLIGHT
TZOFFSETFROM:+0100
TZOFFSETTO:+0200
TZNAME:CEST
DTSTART:20270328T010000
END:DAYLIGHT
BEGIN:STANDARD
TZOFFSETFROM:+0200
TZOFFSETTO:+0100
TZNAME:CET
DTSTART:20271031T010000
END:STANDARD
END:VTIMEZONE
BEGIN:VEVENT
DTSTART;TZID=Europe/Stockholm:20260425T100000
DTEND;TZID=Europe/Stockholm:20260425T160000
DTSTAMP:20260424T115539
CREATED:20251216T163715Z
LAST-MODIFIED:20260320T133146Z
UID:7798-1777111200-1777132800@kindfulness.se
SUMMARY:Tantra for Women: Heart\, Presence & Relationship
DESCRIPTION:Tantra for Women: Presence\, Heart & Relationship\n\nIf you’ve been giving\, doing\, pushing\, and caring for everyone else lately… this day is for you. \nA day to take a deep breath. Slow down. Reconnect with the woman inside who longs to feel again—your body\, your heart\, your natural feminine flow. \n  \nThrough simple yet powerful tantric practices—guided meditation\, movement\, constellations\, gentle touch and heart-centered sharing—you’ll learn how to: \n  \n-Meet your own body with tenderness\, sensitivity and love.-Explore your natural feminine receptive qualities -Come closer to the language of your heart-Learn the difference between feeling (presence) and emotions (triggers) \, and how this awareness can bring more clarity and compassion into your relationships. \n  \nThis day is not about performance or pushing. It’s about giving yourself time and space to feel\, receive\, and connect. \nCome as you are. Leave with a softer heart\, a clearer sense of yourself\, and new ways to bring love into your relationships. \n  \n Terapihuset\, Marvardsgatan 5\, Stockholm 25/410:00–16:00 (incl. lunch) 950 SEK For women of all ages | Max 8 spots\n     Hosted by kindfulness.se\n\n\n\n\nReserve Your Spot\n\nAbout Jivan\nJivan is a therapist and workshop facilitator based in Stockholm. Her work weaves together presence\, embodiment\, and relational awareness\, supporting people to reconnect with themselves and create deeper\, more authentic relationships. \n  \n  \n  \n\n 
URL:https://kindfulness.se/event/tantra-for-women-stockholm/
LOCATION:Terapihuset I Stockholm\, Markvardsgatan 5\, Terapihuset I Markvardsgatan 5\, Stockholm\, Sweden
ATTACH;FMTTYPE=image/jpeg:https://kindfulness.se/wp-content/uploads/2025/12/facebook-tantra-2026.jpg
END:VEVENT
END:VCALENDAR